Package: prebs Version: 1.47.0 Command: rm -rf prebs.buildbin-libdir && mkdir prebs.buildbin-libdir && E:\biocbuild\bbs-3.21-bioc\R\bin\R.exe CMD INSTALL --build --library=prebs.buildbin-libdir prebs_1.47.0.tar.gz StartedAt: 2025-02-10 08:24:35 -0500 (Mon, 10 Feb 2025) EndedAt: 2025-02-10 08:25:20 -0500 (Mon, 10 Feb 2025) EllapsedTime: 45.1 seconds RetCode: 0 Status: OK PackageFile: prebs_1.47.0.zip PackageFileSize: 278.6 KiB