Package: prebs Version: 1.47.0 Command: chmod a+r prebs -R && E:\biocbuild\bbs-3.21-bioc\R\bin\R.exe CMD build --keep-empty-dirs --no-resave-data prebs StartedAt: 2025-02-09 20:51:26 -0500 (Sun, 09 Feb 2025) EndedAt: 2025-02-09 20:55:05 -0500 (Sun, 09 Feb 2025) EllapsedTime: 219.7 seconds RetCode: 0 Status: OK PackageFile: prebs_1.47.0.tar.gz PackageFileSize: 146.7 KiB