Package: prebs Version: 1.47.0 Command: E:\biocbuild\bbs-3.21-bioc\R\bin\R.exe CMD check --no-multiarch --install=check:prebs.install-out.txt --library=E:\biocbuild\bbs-3.21-bioc\R\library --no-vignettes --timings prebs_1.47.0.tar.gz StartedAt: 2025-02-10 04:13:50 -0500 (Mon, 10 Feb 2025) EndedAt: 2025-02-10 04:23:21 -0500 (Mon, 10 Feb 2025) EllapsedTime: 570.9 seconds RetCode: 0 Status: OK CheckDir: prebs.Rcheck Warnings: 0