Package: preciseTAD Version: 1.17.0 Command: /Library/Frameworks/R.framework/Resources/bin/R CMD build --keep-empty-dirs --no-resave-data preciseTAD StartedAt: 2025-02-09 17:16:48 -0500 (Sun, 09 Feb 2025) EndedAt: 2025-02-09 17:19:14 -0500 (Sun, 09 Feb 2025) EllapsedTime: 145.7 seconds RetCode: 0 Status: OK PackageFile: preciseTAD_1.17.0.tar.gz PackageFileSize: 4.072 MiB