Package: preciseTAD Version: 1.17.0 Command: /home/biocbuild/R/R/bin/R CMD build --keep-empty-dirs --no-resave-data preciseTAD StartedAt: 2025-01-29 01:21:08 -0000 (Wed, 29 Jan 2025) EndedAt: 2025-01-29 01:26:21 -0000 (Wed, 29 Jan 2025) EllapsedTime: 313.2 seconds RetCode: 0 Status: OK PackageFile: preciseTAD_1.17.0.tar.gz PackageFileSize: 4.092 MiB