Package: preciseTAD Version: 1.17.0 Command: /home/biocbuild/R/R/bin/R CMD check --install=check:preciseTAD.install-out.txt --library=/home/biocbuild/R/R/site-library --no-vignettes --timings preciseTAD_1.17.0.tar.gz StartedAt: 2025-01-28 14:02:06 -0000 (Tue, 28 Jan 2025) EndedAt: 2025-01-28 14:17:11 -0000 (Tue, 28 Jan 2025) EllapsedTime: 904.8 seconds RetCode: 0 Status: OK CheckDir: preciseTAD.Rcheck Warnings: 0