Package: preciseTAD Version: 1.17.0 Command: /home/biocbuild/R/R/bin/R CMD INSTALL preciseTAD StartedAt: 2025-01-29 20:24:50 -0000 (Wed, 29 Jan 2025) EndedAt: 2025-01-29 20:25:52 -0000 (Wed, 29 Jan 2025) EllapsedTime: 62.1 seconds RetCode: 0 Status: OK