Package: preciseTAD Version: 1.17.0 Command: /Library/Frameworks/R.framework/Resources/bin/R CMD build --keep-empty-dirs --no-resave-data preciseTAD StartedAt: 2025-02-09 17:59:47 -0500 (Sun, 09 Feb 2025) EndedAt: 2025-02-09 18:04:12 -0500 (Sun, 09 Feb 2025) EllapsedTime: 265.0 seconds RetCode: 0 Status: OK PackageFile: preciseTAD_1.17.0.tar.gz PackageFileSize: 4.071 MiB