Package: preciseTAD Version: 1.17.0 Command: /home/biocbuild/bbs-3.21-bioc/R/bin/R CMD build --keep-empty-dirs --no-resave-data preciseTAD StartedAt: 2025-02-12 18:38:50 -0500 (Wed, 12 Feb 2025) EndedAt: 2025-02-12 18:42:41 -0500 (Wed, 12 Feb 2025) EllapsedTime: 231.4 seconds RetCode: 0 Status: OK PackageFile: preciseTAD_1.17.0.tar.gz PackageFileSize: 4.106 MiB