Package: preciseTAD Version: 1.17.0 Command: rm -rf preciseTAD.buildbin-libdir && mkdir preciseTAD.buildbin-libdir && E:\biocbuild\bbs-3.21-bioc\R\bin\R.exe CMD INSTALL --build --library=preciseTAD.buildbin-libdir preciseTAD_1.17.0.tar.gz StartedAt: 2025-02-13 08:34:53 -0500 (Thu, 13 Feb 2025) EndedAt: 2025-02-13 08:36:27 -0500 (Thu, 13 Feb 2025) EllapsedTime: 94.6 seconds RetCode: 0 Status: OK PackageFile: preciseTAD_1.17.0.zip PackageFileSize: 4.761 MiB