Package: preciseTAD Version: 1.17.0 Command: chmod a+r preciseTAD -R && E:\biocbuild\bbs-3.21-bioc\R\bin\R.exe CMD build --keep-empty-dirs --no-resave-data preciseTAD StartedAt: 2025-02-09 20:51:26 -0500 (Sun, 09 Feb 2025) EndedAt: 2025-02-09 20:55:51 -0500 (Sun, 09 Feb 2025) EllapsedTime: 264.9 seconds RetCode: 0 Status: OK PackageFile: preciseTAD_1.17.0.tar.gz PackageFileSize: 4.056 MiB