Package: preciseTAD Version: 1.17.0 Command: E:\biocbuild\bbs-3.21-bioc\R\bin\R.exe CMD check --no-multiarch --install=check:preciseTAD.install-out.txt --library=E:\biocbuild\bbs-3.21-bioc\R\library --no-vignettes --timings preciseTAD_1.17.0.tar.gz StartedAt: 2025-02-13 04:23:08 -0500 (Thu, 13 Feb 2025) EndedAt: 2025-02-13 04:35:25 -0500 (Thu, 13 Feb 2025) EllapsedTime: 737.5 seconds RetCode: 0 Status: OK CheckDir: preciseTAD.Rcheck Warnings: 0