Package: preciseTAD Version: 1.17.0 Command: E:\biocbuild\bbs-3.21-bioc\R\bin\R.exe CMD INSTALL preciseTAD StartedAt: 2025-02-09 16:50:03 -0500 (Sun, 09 Feb 2025) EndedAt: 2025-02-09 16:50:57 -0500 (Sun, 09 Feb 2025) EllapsedTime: 54.7 seconds RetCode: 0 Status: OK