Package: primirTSS Version: 1.25.0 Command: /home/biocbuild/R/R/bin/R CMD build --keep-empty-dirs --no-resave-data primirTSS StartedAt: 2025-01-29 01:21:28 -0000 (Wed, 29 Jan 2025) EndedAt: 2025-01-29 01:22:55 -0000 (Wed, 29 Jan 2025) EllapsedTime: 87.1 seconds RetCode: 0 Status: OK PackageFile: primirTSS_1.25.0.tar.gz PackageFileSize: 3.663 MiB