Package: primirTSS Version: 1.25.0 Command: /Library/Frameworks/R.framework/Resources/bin/R CMD build --keep-empty-dirs --no-resave-data primirTSS StartedAt: 2025-02-09 18:00:03 -0500 (Sun, 09 Feb 2025) EndedAt: 2025-02-09 18:01:10 -0500 (Sun, 09 Feb 2025) EllapsedTime: 67.3 seconds RetCode: 0 Status: OK PackageFile: primirTSS_1.25.0.tar.gz PackageFileSize: 3.662 MiB