Package: primirTSS Version: 1.25.0 Command: /Library/Frameworks/R.framework/Resources/bin/R CMD check --install=check:primirTSS.install-out.txt --library=/Library/Frameworks/R.framework/Resources/library --no-vignettes --timings primirTSS_1.25.0.tar.gz StartedAt: 2025-02-03 22:32:21 -0500 (Mon, 03 Feb 2025) EndedAt: 2025-02-03 22:37:13 -0500 (Mon, 03 Feb 2025) EllapsedTime: 291.3 seconds RetCode: 0 Status: WARNINGS CheckDir: primirTSS.Rcheck Warnings: 2