Package: proActiv Version: 1.17.0 Command: rm -rf proActiv.buildbin-libdir && mkdir proActiv.buildbin-libdir && /Users/biocbuild/BBS/utils/build-universal.sh proActiv_1.17.0.tar.gz /Library/Frameworks/R.framework/Resources/bin/R proActiv.buildbin-libdir StartedAt: 2025-02-09 22:25:41 -0500 (Sun, 09 Feb 2025) EndedAt: 2025-02-09 22:25:58 -0500 (Sun, 09 Feb 2025) EllapsedTime: 17.4 seconds RetCode: 0 Status: OK PackageFile: proActiv_1.17.0.tgz PackageFileSize: 2.785 MiB