Package: proActiv Version: 1.17.0 Command: /Library/Frameworks/R.framework/Resources/bin/R CMD INSTALL proActiv StartedAt: 2025-02-09 15:26:42 -0500 (Sun, 09 Feb 2025) EndedAt: 2025-02-09 15:26:58 -0500 (Sun, 09 Feb 2025) EllapsedTime: 15.7 seconds RetCode: 0 Status: OK