Package: proActiv Version: 1.17.0 Command: /Library/Frameworks/R.framework/Resources/bin/R CMD check --install=check:proActiv.install-out.txt --library=/Library/Frameworks/R.framework/Resources/library --no-vignettes --timings proActiv_1.17.0.tar.gz StartedAt: 2025-02-09 22:47:18 -0500 (Sun, 09 Feb 2025) EndedAt: 2025-02-09 22:54:00 -0500 (Sun, 09 Feb 2025) EllapsedTime: 401.3 seconds RetCode: 0 Status: OK CheckDir: proActiv.Rcheck Warnings: 0