Package: proActiv Version: 1.17.0 Command: /home/biocbuild/bbs-3.21-bioc/R/bin/R CMD check --install=check:proActiv.install-out.txt --library=/home/biocbuild/bbs-3.21-bioc/R/site-library --timings proActiv_1.17.0.tar.gz StartedAt: 2025-02-13 01:27:47 -0500 (Thu, 13 Feb 2025) EndedAt: 2025-02-13 01:34:09 -0500 (Thu, 13 Feb 2025) EllapsedTime: 382.5 seconds RetCode: 0 Status: OK CheckDir: proActiv.Rcheck Warnings: 0