Package: proActiv Version: 1.17.0 Command: rm -rf proActiv.buildbin-libdir && mkdir proActiv.buildbin-libdir && E:\biocbuild\bbs-3.21-bioc\R\bin\R.exe CMD INSTALL --build --library=proActiv.buildbin-libdir proActiv_1.17.0.tar.gz StartedAt: 2025-02-10 08:24:48 -0500 (Mon, 10 Feb 2025) EndedAt: 2025-02-10 08:27:57 -0500 (Mon, 10 Feb 2025) EllapsedTime: 188.4 seconds RetCode: 0 Status: OK PackageFile: proActiv_1.17.0.zip PackageFileSize: 2.669 MiB