Package: proBAMr Version: 1.41.0 Command: /Library/Frameworks/R.framework/Resources/bin/R CMD build --keep-empty-dirs --no-resave-data proBAMr StartedAt: 2025-02-09 18:00:20 -0500 (Sun, 09 Feb 2025) EndedAt: 2025-02-09 18:01:39 -0500 (Sun, 09 Feb 2025) EllapsedTime: 78.8 seconds RetCode: 0 Status: OK PackageFile: proBAMr_1.41.0.tar.gz PackageFileSize: 814 KiB