Package: proBAMr Version: 1.41.0 Command: E:\biocbuild\bbs-3.21-bioc\R\bin\R.exe CMD check --no-multiarch --install=check:proBAMr.install-out.txt --library=E:\biocbuild\bbs-3.21-bioc\R\library --no-vignettes --timings proBAMr_1.41.0.tar.gz StartedAt: 2025-02-10 04:15:25 -0500 (Mon, 10 Feb 2025) EndedAt: 2025-02-10 04:21:06 -0500 (Mon, 10 Feb 2025) EllapsedTime: 340.7 seconds RetCode: 0 Status: OK CheckDir: proBAMr.Rcheck Warnings: 0