Package: proBAMr Version: 1.41.0 Command: E:\biocbuild\bbs-3.21-bioc\R\bin\R.exe CMD INSTALL proBAMr StartedAt: 2025-02-12 16:25:28 -0500 (Wed, 12 Feb 2025) EndedAt: 2025-02-12 16:26:18 -0500 (Wed, 12 Feb 2025) EllapsedTime: 49.9 seconds RetCode: 0 Status: OK