Package: proDA Version: 1.21.0 Maintainer: Constantin Ahlmann-Eltze MaintainerEmail: artjom31415 at googlemail.com git_url: https://git.bioconductor.org/packages/proDA git_branch: devel git_last_commit: 217e7c7 git_last_commit_date: 2024-10-29 10:38:54 -0500 (Tue, 29 Oct 2024)