Package: proDA Version: 1.21.0 Command: /Library/Frameworks/R.framework/Resources/bin/R CMD build --keep-empty-dirs --no-resave-data proDA StartedAt: 2025-02-05 17:18:28 -0500 (Wed, 05 Feb 2025) EndedAt: 2025-02-05 17:19:00 -0500 (Wed, 05 Feb 2025) EllapsedTime: 31.4 seconds RetCode: 0 Status: OK PackageFile: proDA_1.21.0.tar.gz PackageFileSize: 1.251 MiB