Package: proDA Version: 1.21.0 Command: /Library/Frameworks/R.framework/Resources/bin/R CMD check --install=check:proDA.install-out.txt --library=/Library/Frameworks/R.framework/Resources/library --no-vignettes --timings proDA_1.21.0.tar.gz StartedAt: 2025-02-05 20:50:39 -0500 (Wed, 05 Feb 2025) EndedAt: 2025-02-05 20:52:10 -0500 (Wed, 05 Feb 2025) EllapsedTime: 91.1 seconds RetCode: 0 Status: OK CheckDir: proDA.Rcheck Warnings: 0