Package: proDA Version: 1.21.0 Command: /Library/Frameworks/R.framework/Resources/bin/R CMD INSTALL proDA StartedAt: 2025-02-05 15:04:41 -0500 (Wed, 05 Feb 2025) EndedAt: 2025-02-05 15:04:50 -0500 (Wed, 05 Feb 2025) EllapsedTime: 9.4 seconds RetCode: 0 Status: OK