Package: proDA Version: 1.21.0 Command: /Library/Frameworks/R.framework/Resources/bin/R CMD INSTALL proDA StartedAt: 2025-02-05 15:09:36 -0500 (Wed, 05 Feb 2025) EndedAt: 2025-02-05 15:10:05 -0500 (Wed, 05 Feb 2025) EllapsedTime: 29.5 seconds RetCode: 0 Status: OK