Package: proDA Version: 1.21.0 Command: /home/biocbuild/bbs-3.21-bioc/R/bin/R CMD build --keep-empty-dirs --no-resave-data proDA StartedAt: 2025-02-05 18:43:22 -0500 (Wed, 05 Feb 2025) EndedAt: 2025-02-05 18:44:42 -0500 (Wed, 05 Feb 2025) EllapsedTime: 80.2 seconds RetCode: 0 Status: OK PackageFile: proDA_1.21.0.tar.gz PackageFileSize: 1.351 MiB