Package: proDA Version: 1.21.0 Command: /home/biocbuild/bbs-3.21-bioc/R/bin/R CMD check --install=check:proDA.install-out.txt --library=/home/biocbuild/bbs-3.21-bioc/R/site-library --timings proDA_1.21.0.tar.gz StartedAt: 2025-02-06 01:31:59 -0500 (Thu, 06 Feb 2025) EndedAt: 2025-02-06 01:37:29 -0500 (Thu, 06 Feb 2025) EllapsedTime: 329.5 seconds RetCode: 0 Status: OK CheckDir: proDA.Rcheck Warnings: 0