Package: proDA Version: 1.21.0 Command: /home/biocbuild/bbs-3.21-bioc/R/bin/R CMD INSTALL proDA StartedAt: 2025-02-05 15:34:04 -0500 (Wed, 05 Feb 2025) EndedAt: 2025-02-05 15:34:25 -0500 (Wed, 05 Feb 2025) EllapsedTime: 21.5 seconds RetCode: 0 Status: OK