Package: procoil Version: 2.35.0 Command: /Library/Frameworks/R.framework/Resources/bin/R CMD check --install=check:procoil.install-out.txt --library=/Library/Frameworks/R.framework/Resources/library --no-vignettes --timings procoil_2.35.0.tar.gz StartedAt: 2025-02-12 20:49:04 -0500 (Wed, 12 Feb 2025) EndedAt: 2025-02-12 20:49:51 -0500 (Wed, 12 Feb 2025) EllapsedTime: 47.6 seconds RetCode: 0 Status: OK CheckDir: procoil.Rcheck Warnings: 0