Package: procoil Version: 2.35.0 Command: /home/biocbuild/R/R/bin/R CMD build --keep-empty-dirs --no-resave-data procoil StartedAt: 2025-01-29 01:22:11 -0000 (Wed, 29 Jan 2025) EndedAt: 2025-01-29 01:23:01 -0000 (Wed, 29 Jan 2025) EllapsedTime: 50.0 seconds RetCode: 0 Status: OK PackageFile: procoil_2.35.0.tar.gz PackageFileSize: 1.302 MiB