Package: procoil Version: 2.35.0 Command: /home/biocbuild/R/R/bin/R CMD INSTALL procoil StartedAt: 2025-01-29 19:41:51 -0000 (Wed, 29 Jan 2025) EndedAt: 2025-01-29 19:42:30 -0000 (Wed, 29 Jan 2025) EllapsedTime: 38.8 seconds RetCode: 0 Status: OK