Package: procoil Version: 2.35.0 Command: /Library/Frameworks/R.framework/Resources/bin/R CMD build --keep-empty-dirs --no-resave-data procoil StartedAt: 2025-02-12 17:54:03 -0500 (Wed, 12 Feb 2025) EndedAt: 2025-02-12 17:54:45 -0500 (Wed, 12 Feb 2025) EllapsedTime: 42.1 seconds RetCode: 0 Status: OK PackageFile: procoil_2.35.0.tar.gz PackageFileSize: 1.306 MiB