Package: procoil Version: 2.35.0 Command: chmod a+r procoil -R && E:\biocbuild\bbs-3.21-bioc\R\bin\R.exe CMD build --keep-empty-dirs --no-resave-data procoil StartedAt: 2025-02-09 20:52:21 -0500 (Sun, 09 Feb 2025) EndedAt: 2025-02-09 20:53:10 -0500 (Sun, 09 Feb 2025) EllapsedTime: 49.1 seconds RetCode: 0 Status: OK PackageFile: procoil_2.35.0.tar.gz PackageFileSize: 1.264 MiB