Package: procoil Version: 2.35.0 Command: E:\biocbuild\bbs-3.21-bioc\R\bin\R.exe CMD check --no-multiarch --install=check:procoil.install-out.txt --library=E:\biocbuild\bbs-3.21-bioc\R\library --no-vignettes --timings procoil_2.35.0.tar.gz StartedAt: 2025-02-13 04:24:32 -0500 (Thu, 13 Feb 2025) EndedAt: 2025-02-13 04:26:54 -0500 (Thu, 13 Feb 2025) EllapsedTime: 142.3 seconds RetCode: 0 Status: OK CheckDir: procoil.Rcheck Warnings: 0