Package: profileScoreDist Version: 1.35.0 Command: rm -rf profileScoreDist.buildbin-libdir && mkdir profileScoreDist.buildbin-libdir && /Users/biocbuild/BBS/utils/build-universal.sh profileScoreDist_1.35.0.tar.gz /Library/Frameworks/R.framework/Resources/bin/R profileScoreDist.buildbin-libdir StartedAt: 2025-02-10 01:09:09 -0500 (Mon, 10 Feb 2025) EndedAt: 2025-02-10 01:09:26 -0500 (Mon, 10 Feb 2025) EllapsedTime: 17.3 seconds RetCode: 0 Status: OK PackageFile: profileScoreDist_1.35.0.tgz PackageFileSize: 355.6 KiB