Package: projectR Version: 1.23.0 Command: rm -rf projectR.buildbin-libdir && mkdir projectR.buildbin-libdir && /Users/biocbuild/BBS/utils/build-universal.sh projectR_1.23.0.tar.gz /Library/Frameworks/R.framework/Resources/bin/R projectR.buildbin-libdir StartedAt: 2025-02-10 01:09:11 -0500 (Mon, 10 Feb 2025) EndedAt: 2025-02-10 01:09:36 -0500 (Mon, 10 Feb 2025) EllapsedTime: 25.3 seconds RetCode: 0 Status: OK PackageFile: projectR_1.23.0.tgz PackageFileSize: 7.343 MiB