Package: projectR Version: 1.23.0 Command: /Library/Frameworks/R.framework/Resources/bin/R CMD INSTALL projectR StartedAt: 2025-02-09 15:33:33 -0500 (Sun, 09 Feb 2025) EndedAt: 2025-02-09 15:33:54 -0500 (Sun, 09 Feb 2025) EllapsedTime: 21.6 seconds RetCode: 0 Status: OK