Package: projectR Version: 1.23.0 Command: /home/biocbuild/bbs-3.21-bioc/R/bin/R CMD INSTALL projectR StartedAt: 2025-02-12 15:14:25 -0500 (Wed, 12 Feb 2025) EndedAt: 2025-02-12 15:14:41 -0500 (Wed, 12 Feb 2025) EllapsedTime: 15.5 seconds RetCode: 0 Status: OK