Package: projectR Version: 1.23.0 Command: E:\biocbuild\bbs-3.21-bioc\R\bin\R.exe CMD check --no-multiarch --install=check:projectR.install-out.txt --library=E:\biocbuild\bbs-3.21-bioc\R\library --no-vignettes --timings projectR_1.23.0.tar.gz StartedAt: 2025-02-13 04:26:03 -0500 (Thu, 13 Feb 2025) EndedAt: 2025-02-13 04:28:59 -0500 (Thu, 13 Feb 2025) EllapsedTime: 175.9 seconds RetCode: 0 Status: OK CheckDir: projectR.Rcheck Warnings: 0