Package: protGear Version: 1.11.0 Command: /Library/Frameworks/R.framework/Resources/bin/R CMD build --keep-empty-dirs --no-resave-data protGear StartedAt: 2025-02-04 17:18:11 -0500 (Tue, 04 Feb 2025) EndedAt: 2025-02-04 17:18:35 -0500 (Tue, 04 Feb 2025) EllapsedTime: 23.3 seconds RetCode: 0 Status: OK PackageFile: protGear_1.11.0.tar.gz PackageFileSize: 5.037 MiB