Package: protGear Version: 1.11.0 Command: /Library/Frameworks/R.framework/Resources/bin/R CMD INSTALL protGear StartedAt: 2025-02-09 15:28:59 -0500 (Sun, 09 Feb 2025) EndedAt: 2025-02-09 15:29:09 -0500 (Sun, 09 Feb 2025) EllapsedTime: 10.3 seconds RetCode: 0 Status: OK