Package: protGear Version: 1.11.0 Command: /home/biocbuild/R/R/bin/R CMD build --keep-empty-dirs --no-resave-data protGear StartedAt: 2025-01-29 01:23:55 -0000 (Wed, 29 Jan 2025) EndedAt: 2025-01-29 01:25:31 -0000 (Wed, 29 Jan 2025) EllapsedTime: 96.1 seconds RetCode: 0 Status: OK PackageFile: protGear_1.11.0.tar.gz PackageFileSize: 3.15 MiB