Package: protGear Version: 1.11.0 Command: /home/biocbuild/R/R/bin/R CMD check --install=check:protGear.install-out.txt --library=/home/biocbuild/R/R/site-library --no-vignettes --timings protGear_1.11.0.tar.gz StartedAt: 2025-01-28 14:07:48 -0000 (Tue, 28 Jan 2025) EndedAt: 2025-01-28 14:11:25 -0000 (Tue, 28 Jan 2025) EllapsedTime: 217.2 seconds RetCode: 0 Status: OK CheckDir: protGear.Rcheck Warnings: 0