Package: protGear Version: 1.11.0 Command: /home/biocbuild/R/R/bin/R CMD INSTALL protGear StartedAt: 2025-01-29 20:35:21 -0000 (Wed, 29 Jan 2025) EndedAt: 2025-01-29 20:35:55 -0000 (Wed, 29 Jan 2025) EllapsedTime: 33.9 seconds RetCode: 0 Status: OK