Package: protGear Version: 1.11.0 Command: /Library/Frameworks/R.framework/Resources/bin/R CMD build --keep-empty-dirs --no-resave-data protGear StartedAt: 2025-02-09 18:01:39 -0500 (Sun, 09 Feb 2025) EndedAt: 2025-02-09 18:02:47 -0500 (Sun, 09 Feb 2025) EllapsedTime: 68.5 seconds RetCode: 0 Status: OK PackageFile: protGear_1.11.0.tar.gz PackageFileSize: 5.043 MiB