Package: protGear Version: 1.11.0 Command: /home/biocbuild/bbs-3.21-bioc/R/bin/R CMD build --keep-empty-dirs --no-resave-data protGear StartedAt: 2025-02-12 18:40:31 -0500 (Wed, 12 Feb 2025) EndedAt: 2025-02-12 18:41:32 -0500 (Wed, 12 Feb 2025) EllapsedTime: 61.1 seconds RetCode: 0 Status: OK PackageFile: protGear_1.11.0.tar.gz PackageFileSize: 4.745 MiB